BEGIN:VCALENDAR
VERSION:2.0
PRODID:-//Institut de Théologie du Corps - ECPv6.15.20//NONSGML v1.0//EN
CALSCALE:GREGORIAN
METHOD:PUBLISH
X-WR-CALNAME:Institut de Théologie du Corps
X-ORIGINAL-URL:https://institutdetheologieducorps.org
X-WR-CALDESC:Évènements pour Institut de Théologie du Corps
REFRESH-INTERVAL;VALUE=DURATION:PT1H
X-Robots-Tag:noindex
X-PUBLISHED-TTL:PT1H
BEGIN:VTIMEZONE
TZID:Europe/Paris
BEGIN:DAYLIGHT
TZOFFSETFROM:+0100
TZOFFSETTO:+0200
TZNAME:CEST
DTSTART:20180325T010000
END:DAYLIGHT
BEGIN:STANDARD
TZOFFSETFROM:+0200
TZOFFSETTO:+0100
TZNAME:CET
DTSTART:20181028T010000
END:STANDARD
BEGIN:DAYLIGHT
TZOFFSETFROM:+0100
TZOFFSETTO:+0200
TZNAME:CEST
DTSTART:20190331T010000
END:DAYLIGHT
BEGIN:STANDARD
TZOFFSETFROM:+0200
TZOFFSETTO:+0100
TZNAME:CET
DTSTART:20191027T010000
END:STANDARD
BEGIN:DAYLIGHT
TZOFFSETFROM:+0100
TZOFFSETTO:+0200
TZNAME:CEST
DTSTART:20200329T010000
END:DAYLIGHT
BEGIN:STANDARD
TZOFFSETFROM:+0200
TZOFFSETTO:+0100
TZNAME:CET
DTSTART:20201025T010000
END:STANDARD
BEGIN:DAYLIGHT
TZOFFSETFROM:+0100
TZOFFSETTO:+0200
TZNAME:CEST
DTSTART:20210328T010000
END:DAYLIGHT
BEGIN:STANDARD
TZOFFSETFROM:+0200
TZOFFSETTO:+0100
TZNAME:CET
DTSTART:20211031T010000
END:STANDARD
BEGIN:DAYLIGHT
TZOFFSETFROM:+0100
TZOFFSETTO:+0200
TZNAME:CEST
DTSTART:20220327T010000
END:DAYLIGHT
BEGIN:STANDARD
TZOFFSETFROM:+0200
TZOFFSETTO:+0100
TZNAME:CET
DTSTART:20221030T010000
END:STANDARD
END:VTIMEZONE
BEGIN:VEVENT
DTSTART;TZID=Europe/Paris:20210222T080000
DTEND;TZID=Europe/Paris:20210226T180000
DTSTAMP:20260420T230043
CREATED:20200805T135706Z
LAST-MODIFIED:20210129T085651Z
UID:10000548-1613980800-1614362400@institutdetheologieducorps.org
SUMMARY:Session de Certification – «Comprendre la théologie du corps» (TDC) – Paris
DESCRIPTION:En raison des contraintes sanitaires liées à la pandémie de covid 19\, nous sommes malheureusement contraints d’annuler cette session.
URL:https://institutdetheologieducorps.org/agenda/session-de-certification-comprendre-la-theologie-du-corps-tdc-paris/
LOCATION:Paris\, Domus Emmanuel - 89-91\, bd Auguste Blanqui\, PARIS\, 75013\, France
CATEGORIES:Certification en théologie du corps
ATTACH;FMTTYPE=image/jpeg:https://institutdetheologieducorps.org/wp-content/uploads/2019/05/tdc.jpg
ORGANIZER;CN="Institut de Th%C3%A9ologie du Corps":MAILTO:secretariat@institutdetheologieducorps.org
END:VEVENT
BEGIN:VEVENT
DTSTART;TZID=Europe/Paris:20200217T083000
DTEND;TZID=Europe/Paris:20200221T180000
DTSTAMP:20260420T230043
CREATED:20190509T211204Z
LAST-MODIFIED:20200522T205733Z
UID:10000509-1581928200-1582308000@institutdetheologieducorps.org
SUMMARY:Session de Certification - « Comprendre la théologie du corps » (TDC) - Paris
DESCRIPTION:Cette session permet d’acquérir une vision ordonnée de l’ensemble de la théologie du corps à travers ses thèmes fondamentaux.\nUn minimum de 12 participants est nécessaire pour une certaine interaction entre les stagiaires. En dessous de 12 inscrits\, la session est susceptible d’être annulée. \nC’est pourquoi nous vous encourageons à vous inscrire sans attendre.
URL:https://institutdetheologieducorps.org/agenda/session-comprendre-la-theologie-du-corps-tdc/
LOCATION:Paris\, Domus Emmanuel - 89-91\, bd Auguste Blanqui\, PARIS\, 75013\, France
CATEGORIES:Certification en théologie du corps
ATTACH;FMTTYPE=image/jpeg:https://institutdetheologieducorps.org/wp-content/uploads/2019/05/tdc.jpg
ORGANIZER;CN="Institut de Th%C3%A9ologie du Corps":MAILTO:secretariat@institutdetheologieducorps.org
END:VEVENT
BEGIN:VEVENT
DTSTART;TZID=Europe/Paris:20190629T100000
DTEND;TZID=Europe/Paris:20190629T170000
DTSTAMP:20260420T230043
CREATED:20190516T224348Z
LAST-MODIFIED:20200522T203627Z
UID:10000518-1561802400-1561827600@institutdetheologieducorps.org
SUMMARY:Séminaire de Certification - "L’éthique du mariage – Humanae Vitae" (SA-5) - Paris
DESCRIPTION:Les séminaires d’approfondissement et d’appropriation visent à permettre au participant d’« entrer » dans la pensée même des catéchèses sur la théologie du corps et de se les approprier personnellement de manière active.
URL:https://institutdetheologieducorps.org/agenda/seminaire-lethique-du-mariage-humanae-vitae-sa-5-paris/
LOCATION:Paris\, Domus Emmanuel - 89-91\, bd Auguste Blanqui\, PARIS\, 75013\, France
CATEGORIES:Certification en théologie du corps
ATTACH;FMTTYPE=image/jpeg:https://institutdetheologieducorps.org/wp-content/uploads/2019/05/TDC_SA5_Paris.jpg
ORGANIZER;CN="Institut de Th%C3%A9ologie du Corps":MAILTO:secretariat@institutdetheologieducorps.org
END:VEVENT
BEGIN:VEVENT
DTSTART;TZID=Europe/Paris:20190525T100000
DTEND;TZID=Europe/Paris:20190525T170000
DTSTAMP:20260420T230043
CREATED:20190516T223156Z
LAST-MODIFIED:20200522T202944Z
UID:10000519-1558778400-1558803600@institutdetheologieducorps.org
SUMMARY:Séminaire "La résurrection" (SA-3) - Paris
DESCRIPTION:Les séminaires d’approfondissement et d’appropriation visent à permettre au participant d’« entrer » dans la pensée même des catéchèses sur la théologie du corps et de se les approprier personnellement de manière active.
URL:https://institutdetheologieducorps.org/agenda/seminaire-la-resurrection-sa-3-paris/
LOCATION:Paris\, Domus Emmanuel - 89-91\, bd Auguste Blanqui\, PARIS\, 75013\, France
CATEGORIES:Certification en théologie du corps
ATTACH;FMTTYPE=image/jpeg:https://institutdetheologieducorps.org/wp-content/uploads/2019/05/TDC_SA3_Lyon.jpg
ORGANIZER;CN="Institut de Th%C3%A9ologie du Corps":MAILTO:secretariat@institutdetheologieducorps.org
END:VEVENT
END:VCALENDAR